BEGIN:VCALENDAR
VERSION:2.0
PRODID:-//Squarespace Inc/Squarespace 6//v6//EN
BEGIN:VEVENT
UID:59ca3a4af09ca4a9c584873e@squarespace.com
DTSTAMP:20171012T081153Z
DTSTART:20171123T190000Z
DTEND:20171123T210000Z
SUMMARY:Voyage d étude en Équateur - Rencontre avec un peuple indigène d'Am
 azonie
GEO:49.726878;5.895523
LOCATION:D'Millen
END:VEVENT
END:VCALENDAR
