BEGIN:VCALENDAR
VERSION:2.0
PRODID:-//Squarespace Inc/Squarespace 6//v6//EN
BEGIN:VEVENT
UID:5a16f8a39140b7c306ab997a@squarespace.com
DTSTAMP:20171201T092428Z
DTSTART:20180125T190000Z
DTEND:20180125T210000Z
SUMMARY:Sturkäpp\, feelend Infrastruktur an haart Konkurrenz - Déi Lëtzebue
 rger Eisenindustrie um Virowend vun der industrieller Revolutioun 
GEO:43.235096;-79.714504
LOCATION:D'Millen
END:VEVENT
END:VCALENDAR
