BEGIN:VCALENDAR
VERSION:2.0
PRODID:-//Squarespace Inc/Squarespace 6//v6//EN
BEGIN:VEVENT
UID:59edd849cd39c33ba51234a1@squarespace.com
DTSTAMP:20171025T151531Z
DTSTART:20171116T130000Z
DTEND:20180412T153000Z
SUMMARY:Atelier de recyclage de mobilier et d'objets anciens
GEO:49.726878;5.895523
LOCATION:D'Millen
END:VEVENT
END:VCALENDAR
