BEGIN:VCALENDAR
VERSION:2.0
PRODID:-//Squarespace Inc/Squarespace 6//v6//EN
BEGIN:VEVENT
UID:59f17fda8fd4d23da8124c65@squarespace.com
DTSTAMP:20171026T062736Z
DTSTART:20171031T080000Z
DTEND:20171031T150000Z
SUMMARY:Boule en osier\, tressage anarchique
GEO:49.726878;5.895523
LOCATION:D'Millen
END:VEVENT
END:VCALENDAR
