BEGIN:VCALENDAR
VERSION:2.0
PRODID:-//Squarespace Inc/Squarespace 6//v6//EN
BEGIN:VEVENT
UID:59d5f68064b05f73d31430e1@squarespace.com
DTSTAMP:20171012T080931Z
DTSTART:20171022T140000Z
DTEND:20171022T150000Z
SUMMARY:Märchen von Reisen und Abenteuern
END:VEVENT
END:VCALENDAR
