BEGIN:VCALENDAR
VERSION:2.0
PRODID:-//Squarespace Inc/Squarespace 6//v6//EN
BEGIN:VEVENT
UID:598355e83a0411f0002c48d3@squarespace.com
DTSTAMP:20180605T153520Z
DTSTART:20171021T180000Z
DTEND:20171021T200000Z
SUMMARY:Kabarä Feierstëppler
GEO:49.726963;5.895568
LOCATION:D'Millen\, 103 Huewelerstrooss\, Biekerech\, L- 8521\, Luxembourg
END:VEVENT
END:VCALENDAR
