BEGIN:VCALENDAR
VERSION:2.0
PRODID:-//Squarespace Inc/Squarespace 6//v6//EN
BEGIN:VEVENT
UID:5996d298f5e231b4a27988fb@squarespace.com
DTSTAMP:20180214T151228Z
DTSTART:20171020T120000Z
DTEND:20180413T153000Z
SUMMARY:Anfänger-Nähkurs
GEO:49.726878;5.895523
LOCATION:D'Millen
END:VEVENT
END:VCALENDAR
