BEGIN:VCALENDAR
VERSION:2.0
PRODID:-//Squarespace Inc/Squarespace 6//v6//EN
BEGIN:VEVENT
UID:599ff9b5e6f2e1efb37aa00f@squarespace.com
DTSTAMP:20180605T153520Z
DTSTART:20171015T080000Z
DTEND:20171015T160000Z
SUMMARY:La journée du bois
GEO:49.726878;5.895523
LOCATION:D'Millen
END:VEVENT
END:VCALENDAR
