BEGIN:VCALENDAR
VERSION:2.0
PRODID:-//Squarespace Inc/Squarespace 6//v6//EN
BEGIN:VEVENT
UID:59d5f4d98419c252d62b32b1@squarespace.com
DTSTAMP:20171010T100502Z
DTSTART:20171013T170000Z
DTEND:20171105T190000Z
SUMMARY:Voyages\, exposition de Nadine Zangarini
GEO:49.726878;5.895523
LOCATION:D'Millen
END:VEVENT
END:VCALENDAR
