BEGIN:VCALENDAR
VERSION:2.0
PRODID:-//Squarespace Inc/Squarespace 6//v6//EN
BEGIN:VEVENT
UID:5983580a3a0411f0002c70f3@squarespace.com
DTSTAMP:20180605T153520Z
DTSTART:20171001T123000Z
DTEND:20171001T150000Z
SUMMARY:Journée européenne du patrimoine
GEO:49.726878;5.895523
LOCATION:D'Millen
END:VEVENT
END:VCALENDAR
